BEGIN:VCALENDAR
VERSION:2.0
PRODID:-//Tregaron Conservancy - ECPv6.15.20//NONSGML v1.0//EN
CALSCALE:GREGORIAN
METHOD:PUBLISH
X-WR-CALNAME:Tregaron Conservancy
X-ORIGINAL-URL:https://tregaron.org
X-WR-CALDESC:Events for Tregaron Conservancy
REFRESH-INTERVAL;VALUE=DURATION:PT1H
X-Robots-Tag:noindex
X-PUBLISHED-TTL:PT1H
BEGIN:VTIMEZONE
TZID:America/New_York
BEGIN:DAYLIGHT
TZOFFSETFROM:-0500
TZOFFSETTO:-0400
TZNAME:EDT
DTSTART:20220313T070000
END:DAYLIGHT
BEGIN:STANDARD
TZOFFSETFROM:-0400
TZOFFSETTO:-0500
TZNAME:EST
DTSTART:20221106T060000
END:STANDARD
BEGIN:DAYLIGHT
TZOFFSETFROM:-0500
TZOFFSETTO:-0400
TZNAME:EDT
DTSTART:20230312T070000
END:DAYLIGHT
BEGIN:STANDARD
TZOFFSETFROM:-0400
TZOFFSETTO:-0500
TZNAME:EST
DTSTART:20231105T060000
END:STANDARD
BEGIN:DAYLIGHT
TZOFFSETFROM:-0500
TZOFFSETTO:-0400
TZNAME:EDT
DTSTART:20240310T070000
END:DAYLIGHT
BEGIN:STANDARD
TZOFFSETFROM:-0400
TZOFFSETTO:-0500
TZNAME:EST
DTSTART:20241103T060000
END:STANDARD
BEGIN:DAYLIGHT
TZOFFSETFROM:-0500
TZOFFSETTO:-0400
TZNAME:EDT
DTSTART:20250309T070000
END:DAYLIGHT
BEGIN:STANDARD
TZOFFSETFROM:-0400
TZOFFSETTO:-0500
TZNAME:EST
DTSTART:20251102T060000
END:STANDARD
END:VTIMEZONE
BEGIN:VEVENT
DTSTART;TZID=America/New_York:20240402T090000
DTEND;TZID=America/New_York:20240402T100000
DTSTAMP:20260421T172416
CREATED:20240305T020311Z
LAST-MODIFIED:20241125T222653Z
UID:5555-1712048400-1712052000@tregaron.org
SUMMARY:Tai Chi with David Harold – Tuesdays\, Wednesdays\, Thursdays
DESCRIPTION:Beginning on April 2\, the Conservancy will be hosting weekly Tai Chi practice led by David Harold on Tuesdays\, Wednesdays and Thursdays from 9-10 a.m. The group will gather west of the Lily Pond (or in the nearby Twin Oak meadow if the Conservancy is hosting another event). The nearest entrance is 3031 Klingle Road NW.  \n\n\n\nWeather note:  The program will only be canceled in the event of heavy rain\, high winds\, or thunderstorms. Practice is at your own risk; please watch the forecast and exercise prudence.  \n\n\n\nNo registration is necessary\, but participants will be required to sign our standard release form at the start of the session. \n\n\n\nDavid Harold has been practicing Taiji and Qigong for over 40 years and teaching for much of that time. He has studied both Yang and Chen styles. He is retired from a career in psychotherapy and human services management. \n\n\n\nDavid is passionate about making Taiji and Qigong practice and principles accessible. For 15 years\, he led a free\, weekly public outdoor practice in Winston-Salem\, NC. That practice continues to be led by his students now that he has moved to DC. David is now particularly interested in using Taiji principles to build embodied peacemaking.
URL:https://tregaron.org/event/tai-chi-with-david-harold-tuesdays-wednesday-thursdays/
ATTACH;FMTTYPE=image/jpeg:https://tregaron.org/wp-content/uploads/2024/03/david-harold-tai-chi.jpg
END:VEVENT
BEGIN:VEVENT
DTSTART;TZID=America/New_York:20240330T110000
DTEND;TZID=America/New_York:20240330T120000
DTSTAMP:20260421T172416
CREATED:20240306T020146Z
LAST-MODIFIED:20240306T020502Z
UID:5564-1711796400-1711800000@tregaron.org
SUMMARY:Opera Starts with Oh! - Thalie\, the Muse of Comedy
DESCRIPTION:Opera Lafayette’s Opera Starts with Oh! is an engaging musical experience perfect for kids ages 4-10 and their families. Join Lead Teaching Artist and professional dancer\, Sarah Laughland\, to learn about an experience a fantastical opera celebrating the muse of comedy\, Thalie. Together with special guest artists\, we will dance\, sing\, and craft with the gods as they battle for the designation as the “most popular muse”! We will gather at the Shipman Terrace by the Lily Pond. Registration is required via the link below.
URL:https://tregaron.org/event/opera-starts-with-oh-thalie-the-muse-of-comedy/
ATTACH;FMTTYPE=image/jpeg:https://tregaron.org/wp-content/uploads/2024/03/2022-OSWO-DC-1.jpg
END:VEVENT
BEGIN:VEVENT
DTSTART;TZID=America/New_York:20240330T100000
DTEND;TZID=America/New_York:20240330T110000
DTSTAMP:20260421T172416
CREATED:20240301T211417Z
LAST-MODIFIED:20240321T164512Z
UID:5535-1711792800-1711796400@tregaron.org
SUMMARY:Easter Egg Hunt
DESCRIPTION:On Saturday\, March 30\, starting at 10:00 am (sharp!)\, Tregaron Conservancy will be hosting our annual Easter Egg Hunt for kids and their families. This event is free of charge\, but registration is required and must be shown at the gate. Register via the link below.
URL:https://tregaron.org/event/easter-egg-hunt/
ATTACH;FMTTYPE=image/jpeg:https://tregaron.org/wp-content/uploads/2024/03/TC-Easter-Egg-Hunt-4-2023-5-scaled.jpg
END:VEVENT
BEGIN:VEVENT
DTSTART;TZID=America/New_York:20240330T090000
DTEND;TZID=America/New_York:20240330T100000
DTSTAMP:20260421T172416
CREATED:20240321T201230Z
LAST-MODIFIED:20240326T020153Z
UID:5586-1711789200-1711792800@tregaron.org
SUMMARY:Meet the Birds of Tregaron
DESCRIPTION:Join birding expert Sam Krause on a walk to look and listen for Tregaron’s resident and visiting birds. The event is free of charge\, but registration is required via the Eventbrite link. \n\n\n\nThe group will gather at 9:00 am sharp at our street-side entrance at 3100 Macomb Street NW.
URL:https://tregaron.org/event/meet-the-birds-of-tregaron-2/
ATTACH;FMTTYPE=image/jpeg:https://tregaron.org/wp-content/uploads/2023/10/birding-with-sam-krause.jpg
END:VEVENT
BEGIN:VEVENT
DTSTART;TZID=America/New_York:20240323T090000
DTEND;TZID=America/New_York:20240323T100000
DTSTAMP:20260421T172416
CREATED:20240228T173844Z
LAST-MODIFIED:20240228T173846Z
UID:5533-1711184400-1711188000@tregaron.org
SUMMARY:Meet the Birds of Tregaron with Sam Krause
DESCRIPTION:Join birding expert Sam Krause on a walk to look and listen for Tregaron’s resident and visiting birds. The event is free of charge\, but registration is required via the Eventbrite link.  \n\n\n\nThe group will gather at 9:00 am sharp at our street-side entrance at 3100 Macomb Street NW.
URL:https://tregaron.org/event/meet-the-birds-of-tregaron-with-sam-krause-2/
END:VEVENT
BEGIN:VEVENT
DTSTART;TZID=America/New_York:20240316T090000
DTEND;TZID=America/New_York:20240316T100000
DTSTAMP:20260421T172416
CREATED:20240228T170817Z
LAST-MODIFIED:20240228T172331Z
UID:5525-1710579600-1710583200@tregaron.org
SUMMARY:Meet the Birds of Tregaron with Sam Krause
DESCRIPTION:O \n\n\n\nJoin birding expert Sam Krause on a walk to look and listen for Tregaron’s resident and visiting birds. \n\n\n\nRegistration is required via the Eventbrite link below. The group will gather at 9:00 am sharp at our street-side entrance at 3100 Macomb Street NW. 
URL:https://tregaron.org/event/meet-the-birds-of-tregaron-with-sam-krause/
ATTACH;FMTTYPE=image/jpeg:https://tregaron.org/wp-content/uploads/pileated_woodpecker_marcussharpe.jpg
END:VEVENT
BEGIN:VEVENT
DTSTART;TZID=America/New_York:20231111T100000
DTEND;TZID=America/New_York:20231111T233000
DTSTAMP:20260421T172416
CREATED:20231026T150328Z
LAST-MODIFIED:20240508T134659Z
UID:5235-1699696800-1699745400@tregaron.org
SUMMARY:Tregaron Landscape Design and History Tour
DESCRIPTION:A walking tour exploring the past\, present and future of Ellen Biddle Shipman’s historic landscape design. \n\n\n\nJoin Anne Dawson for an in-depth landscape walking tour focusing on both the historic designs and Tregaron’s current efforts to recapture Ellen Biddle Shipman’s vision. The tour will delve into Shipman’s collaboration with architect Charles Adams Platt on plans for the estate\, the aesthetic principles underlying her original “wild garden” designs\, and the Conservancy’s ongoing work to interpret her plans\, and to restore and rehabilitate the Tregaron landscape within this historic framework. \n\n\n\nAnne Dawson’s interest in the history and design of Tregaron stems from a background in Historic Garden Rehabilitation\, graduate work in Art History and practical work in both landscape and interior design. Living in Cleveland Park since 2004\, she has experienced the enormous changes brought about by the Conservancy in recapturing Ellen Biddle Shipman’s vision and launching sustainability initiatives at Tregaron. As a member of the DC community\, she is interested in sharing the story of this dynamic landscape so that\, as visitors walk the paths\, they can engage more deeply with Tregaron’s designed environment and the nature that enfolds them in this very special place. \n\n\n\nThe group will gather at 3100 Macomb Street NW. Tregaron has mulch trails and moderate elevation changes. Wear comfortable shoes and bring a water bottle.Registration is required via this Eventbrite link.  \n\n\n\nWe hope you will also consider making a donation to support our year-round nature walks and help us maintain our historic urban parkland here. \n\n\n\n\nRegister on Eventbrite
URL:https://tregaron.org/event/tregaron-landscape-design-and-history-tour/
ATTACH;FMTTYPE=image/jpeg:https://tregaron.org/wp-content/uploads/2023/10/vintage-photo-of-bench.jpg
END:VEVENT
BEGIN:VEVENT
DTSTART;TZID=America/New_York:20231028T080000
DTEND;TZID=America/New_York:20231028T093000
DTSTAMP:20260421T172416
CREATED:20231011T191658Z
LAST-MODIFIED:20231113T162122Z
UID:5045-1698480000-1698485400@tregaron.org
SUMMARY:Meet the Birds of Tregaron
DESCRIPTION:Did you know that the Tregaron Conservancy is a birding “hot spot”? Over 120 species of birds have been identified in our woodlands. Join birding expert Sam Krause on a walk to look and listen for Tregaron’s resident and visiting birds.\n\nThe group will gather at 8:00 am sharp at our street-side entrance at 3100 Macomb Street NW.\n\nTregaron has mulch trails and moderate elevation changes. Wear comfortable shoes. Binoculars are recommended. Questions? Email info@tregaronconservancy.org.\n\nPlease consider making a donation to support our year-round nature walks and help us maintain our treasured parklands here. We rely 100% on private donations for everything we do!\n\n \n\n\n\nRegister on Eventbrite here\n\n\n\n***If you register and then are unable to attend\, please cancel your spot via Eventbrite or email info@tregaronconservancy.org.***
URL:https://tregaron.org/event/meet-the-birds-of-tregaron/
ATTACH;FMTTYPE=image/jpeg:https://tregaron.org/wp-content/uploads/2023/10/birding-with-sam-krause.jpg
END:VEVENT
BEGIN:VEVENT
DTSTART;TZID=America/New_York:20231022T080000
DTEND;TZID=America/New_York:20231022T093000
DTSTAMP:20260421T172416
CREATED:20231011T191239Z
LAST-MODIFIED:20231011T191516Z
UID:5039-1697961600-1697967000@tregaron.org
SUMMARY:Meet the Birds of Tregaron
DESCRIPTION:Did you know that the Tregaron Conservancy is a birding “hot spot”? Over 120 species of birds have been identified in our woodlands. Join birding expert Sam Krause on a walk to look and listen for Tregaron’s resident and visiting birds. \nThe group will gather at 8:00 am sharp at our street-side entrance at 3100 Macomb Street NW. \nTregaron has mulch trails and moderate elevation changes. Wear comfortable shoes. Binoculars are recommended. Questions? Email info@tregaronconservancy.org. \nPlease consider making a donation to support our year-round nature walks and help us maintain our treasured parklands here. We rely 100% on private donations for everything we do! \n  \n\n\nRegister on Eventbrite here \n\n\n***If you register and then are unable to attend\, please cancel your spot via Eventbrite or email info@tregaronconservancy.org.***
URL:https://tregaron.org/event/meet-the-birds-of-tregaron-oct-22-2023/
ATTACH;FMTTYPE=image/jpeg:https://tregaron.org/wp-content/uploads/2023/10/birding-with-sam-krause.jpg
END:VEVENT
BEGIN:VEVENT
DTSTART;TZID=America/New_York:20231014T150000
DTEND;TZID=America/New_York:20231014T170000
DTSTAMP:20260421T172416
CREATED:20231011T185851Z
LAST-MODIFIED:20231011T190106Z
UID:5035-1697295600-1697302800@tregaron.org
SUMMARY:Tregaron Unplugged with Mar Arts DC
DESCRIPTION:Local musicians will perform in a variety of genres in “listening rooms” throughout Tregaron. \nMore details at Washington Performing Arts \nTregaron Unplugged returns in 2023\, promising an enchanting afternoon of acoustic bliss amidst the serene beauty of Tregaron Conservancy. This highly anticipated event brings together talented local musicians and nature enthusiasts for an intimate\, unplugged experience of chamber music\, contemporary folk\, opera\, and jazz. Against lush greenery and tranquil landscapes\, attendees will be treated to performances that transcend genres\, offering a harmonious blend of melodies and nature’s symphony. With its unique fusion of music and natural serenity\, Tregaron Unplugged invites guests to stroll through the park and immerse themselves in an unforgettable experience of sensory delights\, fostering a deep connection between art and the wonders of the great outdoors. \nPerformers include singer-songwriter Gëtte\, jazz ensemble Brad Linde OUTSIDE\, Mars Arts D.C. Strings\, sitarist Snehesh Nag\, and abstract painter Khalid Thompson. \nTregaron performances are free with required registration. \nPost-Concert Young Patron Event: Patrons age 40 and younger are invited to mix and mingle with other young arts fans and Washington Performing Arts Junior Board members at nearby Nanny O’Brien’s Irish Pub (3319 Connecticut Ave NW\, Washington\, DC 20008) from 5:00 p.m. to 7:00 p.m. \n  \nMars Arts D.C. is a partnership of Mars\, Incorporated and Washington Performing Arts\, with support from Jacqueline Badger Mars. \nThis event is made possible through the generous support of Events DC; Pepco\, An Exelon Company; and Elaine Rose. \nSpecial thanks to the following lead supporters of Washington Performing Arts’s mission-driven work: Jacqueline Badger Mars and Mars\, Incorporated; D.C. Commission on the Arts and Humanities; and the National Capital Arts and Cultural Affairs Program and the U.S. Commission of Fine Arts.
URL:https://tregaron.org/event/tregaron-unplugged-with-mar-arts-dc/
ATTACH;FMTTYPE=image/jpeg:https://tregaron.org/wp-content/uploads/2023/10/tregaron-unplugged-10-14-2023.jpg
END:VEVENT
END:VCALENDAR